View In:
ArcGIS JavaScript
ArcGIS Online Map Viewer
ArcGIS Earth
ArcGIS Pro
Service Description:
Map Name: Contours
Legend
All Layers and Tables
Layers:
Description:
Service Item Id: f20a5fe4c4d34821b8f4e03716b00a0d
Copyright Text:
Spatial Reference:
2193
(2193)
VCSWkid(7839)
LatestVCSWkid(7839)
Single Fused Map Cache: true
Tile Info:
- Height: 256.0
- Width: 256.0
- DPI: 96.0
-
Levels of Detail: 24
-
Level ID: 0
[ Start Tile, End Tile ]
- Resolution: 156543.03392799935
- Scale: 5.91657527591552E8
-
Level ID: 1
[ Start Tile, End Tile ]
- Resolution: 78271.51696399967
- Scale: 2.95828763795776E8
-
Level ID: 2
[ Start Tile, End Tile ]
- Resolution: 39135.75848199984
- Scale: 1.47914381897888E8
-
Level ID: 3
[ Start Tile, End Tile ]
- Resolution: 19567.87924099992
- Scale: 7.3957190948944E7
-
Level ID: 4
[ Start Tile, End Tile ]
- Resolution: 9783.93962049996
- Scale: 3.6978595474472E7
-
Level ID: 5
[ Start Tile, End Tile ]
- Resolution: 4891.96981024998
- Scale: 1.8489297737236E7
- Format: PNG
- Compression Quality: 0.0
- Origin: X: -4020900.0
Y: 1.99981E7
- Spatial Reference: 2193
(2193)
LatestVCSWkid(0)
Storage Info:
- Storage Format: esriMapCacheStorageModeCompactV2
- Packet Size: 128
Initial Extent:
XMin: 1802973.3389716295
YMin: 5674591.683687972
XMax: 2085566.5343512197
YMax: 5866930.603973338
Spatial Reference: 2193
(2193)
VCSWkid(7839)
LatestVCSWkid(7839)
Full Extent:
XMin: 1802973.3389716295
YMin: 5674591.683687972
XMax: 2085566.5343512197
YMax: 5866930.603973338
Spatial Reference: 2193
(2193)
VCSWkid(7839)
LatestVCSWkid(7839)
Units: esriMeters
Supported Image Format Types:
Document Info:
Supports Dynamic Layers: false
Resampling: true
MaxRecordCount: 0
MaxSelectionCount: 0
MaxImageHeight: 0
MaxImageWidth: 0
Supported Query Formats:
Supports Query Data Elements:
Min Scale: 2500
Max Scale: 0
Min LOD: 18
Max LOD: 20
Child Resources:
Info
Supported Operations:
QueryLegends
Return Updates