View In:
ArcGIS JavaScript
ArcGIS Online Map Viewer
ArcGIS Earth
Service Description: Digital Elevation Model (DEM) based on LiDAR data collected between 2019 and 2022 by BOPRC, LINZ, and the Gisborne District Council. Data is coming from LINZ New Zealand Elevation AWS environment: https://registry.opendata.aws/nz-elevation/.
Horizontal Datum: New Zealand Transverse Mercator 2000
Vertical Datum: New Zealand Vertical Datum 2016
Name: elevation/DEM_2019_2022_1m_BOPRegion_NZVD2016_LINZ
Description: Digital Elevation Model (DEM) based on LiDAR data collected between 2019 and 2022 by BOPRC, LINZ, and the Gisborne District Council. Data is coming from LINZ New Zealand Elevation AWS environment: https://registry.opendata.aws/nz-elevation/.
Horizontal Datum: New Zealand Transverse Mercator 2000
Vertical Datum: New Zealand Vertical Datum 2016
Single Fused Map Cache: false
Extent:
XMin: 1832800.0
YMin: 5665200.0
XMax: 2096800.0
YMax: 5917200.0
Spatial Reference: 2193
(2193)
VCSWkid(7839)
LatestVCSWkid(7839)
Initial Extent:
XMin: 1832800.0
YMin: 5665200.0
XMax: 2096800.0
YMax: 5917200.0
Spatial Reference: 2193
(2193)
VCSWkid(7839)
LatestVCSWkid(7839)
Full Extent:
XMin: 1832800.0
YMin: 5665200.0
XMax: 2096800.0
YMax: 5917200.0
Spatial Reference: 2193
(2193)
VCSWkid(7839)
LatestVCSWkid(7839)
Pixel Size X: 1.0
Pixel Size Y: 1.0
Band Count: 1
Pixel Type: F32
RasterFunction Infos: {"rasterFunctionInfos": [
{
"name": "1m Contours",
"description": "1m Contours",
"help": ""
},
{
"name": "None",
"description": "Make a Raster or Raster Dataset into a Function Raster Dataset.",
"help": ""
}
]}
Mensuration Capabilities: None
Inspection Capabilities:
Has Histograms: true
Has Colormap: false
Has Multi Dimensions : false
Rendering Rule:
Min Scale: 0
Max Scale: 0
Copyright Text:
Service Data Type: esriImageServiceDataTypeGeneric
Min Values: -97.4739990234375
Max Values: 1751.802001953125
Mean Values: 390.0152955376201
Standard Deviation Values: 266.12871479954725
Object ID Field: OBJECTID
Fields:
-
OBJECTID
(
type: esriFieldTypeOID, alias: OBJECTID
)
-
Shape
(
type: esriFieldTypeGeometry, alias: Shape
)
-
Name
(
type: esriFieldTypeString, alias: Name, length: 200
)
-
MinPS
(
type: esriFieldTypeDouble, alias: MinPS
)
-
MaxPS
(
type: esriFieldTypeDouble, alias: MaxPS
)
-
LowPS
(
type: esriFieldTypeDouble, alias: LowPS
)
-
HighPS
(
type: esriFieldTypeDouble, alias: HighPS
)
-
Category
(
type: esriFieldTypeInteger, alias: Category
, Coded Values:
[0: Unknown]
, [1: Primary]
, [2: Overview]
, ...6 more...
)
-
Tag
(
type: esriFieldTypeString, alias: Tag, length: 100
)
-
GroupName
(
type: esriFieldTypeString, alias: GroupName, length: 100
)
-
ProductName
(
type: esriFieldTypeString, alias: ProductName, length: 100
)
-
CenterX
(
type: esriFieldTypeDouble, alias: CenterX
)
-
CenterY
(
type: esriFieldTypeDouble, alias: CenterY
)
-
ZOrder
(
type: esriFieldTypeInteger, alias: ZOrder
)
-
Shape_Length
(
type: esriFieldTypeDouble, alias: Shape_Length
)
-
Shape_Area
(
type: esriFieldTypeDouble, alias: Shape_Area
)
Default Mosaic Method: Northwest
Allowed Mosaic Methods: NorthWest,Center,LockRaster,ByAttribute,Nadir,Viewpoint,Seamline,None
SortField:
SortValue: null
Mosaic Operator: First
Default Compression Quality: 75
Default Resampling Method: Bilinear
Max Record Count: 1000
Max Image Height: 4100
Max Image Width: 15000
Max Download Image Count: 20
Max Mosaic Image Count: 20
Allow Raster Function: true
Allow Copy: true
Allow Analysis: true
Allow Compute TiePoints: false
Supports Statistics: true
Supports Advanced Queries: true
Use StandardizedQueries: true
Raster Type Infos:
Name: Raster Dataset
Description: Supports all ArcGIS Raster Datasets
Help:
Has Raster Attribute Table: false
Edit Fields Info: null
Ownership Based AccessControl For Rasters: null
Child Resources:
Info
Histograms
Statistics
Key Properties
Legend
Raster Function Infos
Supported Operations:
Export Image
Query
Identify
Compute Histograms
Compute Statistics Histograms
Get Samples
Compute Class Statistics
Query GPS Info
Find Images
Image to Map
Map to Image
Measure from Image
Image to Map Multiray
Query Boundary
Compute Pixel Location
Compute Angles
Validate
Project