View In:
ArcGIS JavaScript
ArcGIS Online Map Viewer
ArcGIS Earth
Service Description: elevation/DEM_2011_2m_TEST
Name: elevation/DEM_2011_2m_TEST
Description:
Single Fused Map Cache: false
Extent:
XMin: 1847200.0
YMin: 5676000.0
XMax: 2058400.0
YMax: 5860156.0
Spatial Reference: 2193
(2193)
VCSWkid(5764)
LatestVCSWkid(5764)
Initial Extent:
XMin: 1847200.0
YMin: 5676000.0
XMax: 2058400.0
YMax: 5860156.0
Spatial Reference: 2193
(2193)
VCSWkid(5764)
LatestVCSWkid(5764)
Full Extent:
XMin: 1847200.0
YMin: 5676000.0
XMax: 2058400.0
YMax: 5860156.0
Spatial Reference: 2193
(2193)
VCSWkid(5764)
LatestVCSWkid(5764)
Pixel Size X: 2.0
Pixel Size Y: 2.0
Band Count: 1
Pixel Type: F32
RasterFunction Infos: {"rasterFunctionInfos": [{
"name": "None",
"description": "",
"help": ""
}]}
Mensuration Capabilities: Basic
Inspection Capabilities:
Has Histograms: true
Has Colormap: false
Has Multi Dimensions : false
Rendering Rule:
Min Scale: 0
Max Scale: 0
Copyright Text:
Service Data Type: esriImageServiceDataTypeGeneric
Min Values: -45.099998474121094
Max Values: 1475.8900146484375
Mean Values: 402.17214690131044
Standard Deviation Values: 252.56223294570458
Object ID Field:
Fields:
None
Default Mosaic Method: Center
Allowed Mosaic Methods:
SortField:
SortValue: null
Mosaic Operator: First
Default Compression Quality: 75
Default Resampling Method: Bilinear
Max Record Count: null
Max Image Height: 4100
Max Image Width: 15000
Max Download Image Count: null
Max Mosaic Image Count: null
Allow Raster Function: true
Allow Copy: true
Allow Analysis: true
Allow Compute TiePoints: false
Supports Statistics: false
Supports Advanced Queries: false
Use StandardizedQueries: true
Raster Type Infos:
Name: Raster Dataset
Description: Supports all ArcGIS Raster Datasets
Help:
Has Raster Attribute Table: false
Edit Fields Info: null
Ownership Based AccessControl For Rasters: null
Child Resources:
Info
Histograms
Statistics
Key Properties
Legend
Raster Function Infos
Supported Operations:
Export Image
Identify
Measure
Compute Histograms
Compute Statistics Histograms
Get Samples
Compute Class Statistics
Query Boundary
Compute Pixel Location
Compute Angles
Validate
Project