{ "currentVersion": 11.5, "serviceDescription": "

This raster dataset comprises the extent of the tsunami inundation mapping for the 5m wave height scenario. It was produced by GNS Science in 2024 and outlines the modelled inundated area with cell values of inundation depth above ground for the coastal area of the Bay of Plenty Region. <\/SPAN>The dataset is in the NZTM2000 projection. For more details see Roger JHM, Gusman AR, Hughes L, Wang X, Lukovic B, Power W, Mueller C, Burbidge D 2024. Comprehensive Tsunami Inundation Modelling and Evacuation Zone Mapping - GNS Science: Final Report. Lower Hutt (NZ): GNS Science. Consultancy Report 2024/139.<\/SPAN><\/P>
If you wish to contact Bay of Plenty Regional Council about this dataset, please use the form here: https://www.boprc.govt.nz/your-council/contact-us/<\/SPAN><\/P>
This dataset has been prepared by the Institute of Geological and Nuclear Sciences Limited (GNS Science) exclusively for and under contract to Emergency Management Bay of Plenty (EMBOP). Unless otherwise agreed in writing by GNS Science, GNS Science accepts no responsibility for any use of or reliance on any contents of this report by any person other than Emergency Management Bay of Plenty (EMBOP) and shall not be liable to any person other than Emergency Management Bay of Plenty (EMBOP), on any ground, for any loss, damage or expense arising from such use or reliance.<\/SPAN><\/P>
<\/P><\/DIV><\/DIV><\/DIV>", "serviceItemId": "3c68c39fb532467398b07db33b236b33", "name": "environment/NaturalHazards_TsunamiInundation_MaxDepth_5mWave_2025", "description": "

This raster dataset comprises the extent of the tsunami inundation mapping for the 5m wave height scenario. It was produced by GNS Science in 2024 and outlines the modelled inundated area with cell values of inundation depth above ground for the coastal area of the Bay of Plenty Region. <\/SPAN>The dataset is in the NZTM2000 projection. For more details see Roger JHM, Gusman AR, Hughes L, Wang X, Lukovic B, Power W, Mueller C, Burbidge D 2024. Comprehensive Tsunami Inundation Modelling and Evacuation Zone Mapping - GNS Science: Final Report. Lower Hutt (NZ): GNS Science. Consultancy Report 2024/139.<\/SPAN><\/P>
If you wish to contact Bay of Plenty Regional Council about this dataset, please use the form here: https://www.boprc.govt.nz/your-council/contact-us/<\/SPAN><\/P>
This dataset has been prepared by the Institute of Geological and Nuclear Sciences Limited (GNS Science) exclusively for and under contract to Emergency Management Bay of Plenty (EMBOP). Unless otherwise agreed in writing by GNS Science, GNS Science accepts no responsibility for any use of or reliance on any contents of this report by any person other than Emergency Management Bay of Plenty (EMBOP) and shall not be liable to any person other than Emergency Management Bay of Plenty (EMBOP), on any ground, for any loss, damage or expense arising from such use or reliance.<\/SPAN><\/P>
<\/P><\/DIV><\/DIV><\/DIV>", "extent": { "xmin": 1857157.85685398, "ymin": 5780878.11665826, "xmax": 2051677.85685398, "ymax": 5874748.11665826, "spatialReference": { "wkid": 2193, "latestWkid": 2193 } }, "initialExtent": { "xmin": 1857157.85685398, "ymin": 5780878.11665826, "xmax": 2051677.85685398, "ymax": 5874748.11665826, "spatialReference": { "wkid": 2193, "latestWkid": 2193 } }, "fullExtent": { "xmin": 1857157.85685398, "ymin": 5780878.11665826, "xmax": 2051677.85685398, "ymax": 5874748.11665826, "spatialReference": { "wkid": 2193, "latestWkid": 2193 } }, "sortableFields": "", "bandCount": 1, "pixelType": "F32", "minValues": [], "maxValues": [], "meanValues": [], "stdvValues": [], "serviceProperties": "Center<\/MosaicMethod>First<\/MosaicOperator>true<\/SortAscending><\/LockImageID><\/TileOrderField>0<\/TileOrderBase>0.000000<\/AvgImageSpacingX>0.000000<\/AvgImageSpacingY>0.0<\/ViewPointX>0.0<\/ViewPointY>0.0<\/ViewPointDefShiftX>0.0<\/ViewPointDefShiftY>None<\/CompressionMethod>75<\/CompressionQuality>0.010000<\/CompressionTolerance>Bilinear<\/SamplingMethod><\/ImageServiceProperties><\/ImageServer>", "allowedFields": "", "hasMultidimensions": false, "pixelSizeX": 10, "pixelSizeY": 10, "meanPixelSize": 10, "datasetFormat": "FGDBR", "uncompressedSize": 730383696, "blockWidth": 128, "blockHeight": 128, "compressionType": "NONE", "bandNames": [ "Band_1" ], "allowCopy": true, "allowAnalysis": true, "itemAccess": false, "inspectionCapabilities": "", "minPixelSize": 0, "maxPixelSize": 0, "copyrightText": "GNS Science", "serviceDataType": "esriImageServiceDataTypeGeneric", "serviceSourceType": "esriImageServiceSourceTypeDataset", "objectIdField": "", "fields": [], "capabilities": "Image,Metadata,Mensuration", "defaultMosaicMethod": "Center", "allowedMosaicMethods": "", "sortField": "", "sortValue": null, "sortAscending": true, "mosaicOperator": "First", "defaultCompressionQuality": 75, "defaultResamplingMethod": "Bilinear", "maxImageHeight": 4100, "maxImageWidth": 15000, "allowRasterFunction": true, "rasterFunctionInfos": [ { "name": "None", "description": "", "help": "" } ], "rasterTypeInfos": [ { "name": "Raster Dataset", "description": "Supports all ArcGIS Raster Datasets", "help": "" } ], "mensurationCapabilities": "Basic", "hasHistograms": false, "hasColormap": false, "hasRasterAttributeTable": false, "minScale": 0, "maxScale": 0, "exportTilesAllowed": false, "supportsStatistics": false, "supportsAdvancedQueries": false, "editFieldsInfo": null, "ownershipBasedAccessControlForRasters": null, "allowComputeTiePoints": false, "useStandardizedQueries": true, "advancedQueryCapabilities": { "useStandardizedQueries": true, "supportsStatistics": false, "supportsOrderBy": false, "supportsDistinct": false, "supportsPagination": false }, "spatialReference": { "wkid": 2193, "latestWkid": 2193 } }